BEGIN:VCALENDAR
VERSION:2.0
PRODID:-//Segelclub Turbine Bleiloch e.V. - ECPv6.15.20//NONSGML v1.0//EN
CALSCALE:GREGORIAN
METHOD:PUBLISH
X-WR-CALNAME:Segelclub Turbine Bleiloch e.V.
X-ORIGINAL-URL:https://scturbinebleiloch.de
X-WR-CALDESC:Veranstaltungen für Segelclub Turbine Bleiloch e.V.
REFRESH-INTERVAL;VALUE=DURATION:PT1H
X-Robots-Tag:noindex
X-PUBLISHED-TTL:PT1H
BEGIN:VTIMEZONE
TZID:Europe/Berlin
BEGIN:DAYLIGHT
TZOFFSETFROM:+0100
TZOFFSETTO:+0200
TZNAME:CEST
DTSTART:20250330T010000
END:DAYLIGHT
BEGIN:STANDARD
TZOFFSETFROM:+0200
TZOFFSETTO:+0100
TZNAME:CET
DTSTART:20251026T010000
END:STANDARD
BEGIN:DAYLIGHT
TZOFFSETFROM:+0100
TZOFFSETTO:+0200
TZNAME:CEST
DTSTART:20260329T010000
END:DAYLIGHT
BEGIN:STANDARD
TZOFFSETFROM:+0200
TZOFFSETTO:+0100
TZNAME:CET
DTSTART:20261025T010000
END:STANDARD
BEGIN:DAYLIGHT
TZOFFSETFROM:+0100
TZOFFSETTO:+0200
TZNAME:CEST
DTSTART:20270328T010000
END:DAYLIGHT
BEGIN:STANDARD
TZOFFSETFROM:+0200
TZOFFSETTO:+0100
TZNAME:CET
DTSTART:20271031T010000
END:STANDARD
END:VTIMEZONE
BEGIN:VEVENT
DTSTART;VALUE=DATE:20261010
DTEND;VALUE=DATE:20261011
DTSTAMP:20260424T022138
CREATED:20251127T101451Z
LAST-MODIFIED:20260120T114111Z
UID:1976-1791590400-1791676799@scturbinebleiloch.de
SUMMARY:Herbstwanderung
DESCRIPTION:Die Route unserer diesjährigen Wanderung steht noch nicht fest\, der Treff ist 09:00 Uhr am Bootshaus. \n 
URL:https://scturbinebleiloch.de/event/herbstwanderung-2/
LOCATION:Segelclub Turbine Bleiloch (SCTB)\, Sperrmauer 1\, Saalburg-Ebersdorf\, 07929\, Deutschland
CATEGORIES:Bleilochtalsperre
ATTACH;FMTTYPE=image/jpeg:https://scturbinebleiloch.de/wp-content/uploads/2024/11/Hoellental.jpg
END:VEVENT
BEGIN:VEVENT
DTSTART;TZID=Europe/Berlin:20261010T160000
DTEND;TZID=Europe/Berlin:20261010T190000
DTSTAMP:20260424T022138
CREATED:20251127T101900Z
LAST-MODIFIED:20260120T114223Z
UID:1978-1791648000-1791658800@scturbinebleiloch.de
SUMMARY:Herbstfeuer
DESCRIPTION:Nach unserer Wanderung wollen wir den Tag in gemütlicher Runde ausklingen lassen. Für die Getränke ist ausreichend gesorgt der Rost brennt für Euer Grillgut. \n 
URL:https://scturbinebleiloch.de/event/herbstfeuer-2/
LOCATION:Segelclub Turbine Bleiloch (SCTB)\, Sperrmauer 1\, Saalburg-Ebersdorf\, 07929\, Deutschland
CATEGORIES:Bleilochtalsperre
ATTACH;FMTTYPE=image/jpeg:https://scturbinebleiloch.de/wp-content/uploads/2024/11/HerbstfeuerSCTB.jpg
END:VEVENT
BEGIN:VEVENT
DTSTART;TZID=Europe/Berlin:20261017T100000
DTEND;TZID=Europe/Berlin:20261017T140000
DTSTAMP:20260424T022138
CREATED:20251127T102431Z
LAST-MODIFIED:20260120T113823Z
UID:1981-1792231200-1792245600@scturbinebleiloch.de
SUMMARY:Boote einlagern / Arbeitseinsatz
DESCRIPTION:Neben dem Einlagern der Boote wollen wir die Stege und das Gelände für den Winter vorbereiten.
URL:https://scturbinebleiloch.de/event/boote-einlagern-arbeitseinsatz-2/
LOCATION:Segelclub Turbine Bleiloch (SCTB)\, Sperrmauer 1\, Saalburg-Ebersdorf\, 07929\, Deutschland
CATEGORIES:Arbeitseinsatz,Bleilochtalsperre
ATTACH;FMTTYPE=image/jpeg:https://scturbinebleiloch.de/wp-content/uploads/2024/11/SCTB_Saisonende.jpeg
END:VEVENT
BEGIN:VEVENT
DTSTART;VALUE=DATE:20261031
DTEND;VALUE=DATE:20261102
DTSTAMP:20260424T022138
CREATED:20251121T134646Z
LAST-MODIFIED:20260120T114347Z
UID:1946-1793404800-1793577599@scturbinebleiloch.de
SUMMARY:Mitteldeutsche Vereinsmeisterschaften
DESCRIPTION:Die Mitteldeutschen Vereinsmeisterschaften (MDVM) werden 2026 an der Talsperre Zeulenroda ausgetragen \n  \n  \n \n 
URL:https://scturbinebleiloch.de/event/mitteldeutsche-vereinsmeisterschaften/
LOCATION:segelclub zeulenroda\, Quingenberg\, Zeulenroda\, Thüringen\, 07937\, Germany
CATEGORIES:Bleilochtalsperre
ATTACH;FMTTYPE=image/jpeg:https://scturbinebleiloch.de/wp-content/uploads/2023/11/1536-1024-2.jpg
END:VEVENT
END:VCALENDAR