BEGIN:VCALENDAR
VERSION:2.0
PRODID:-//Segelclub Turbine Bleiloch e.V. - ECPv6.15.20//NONSGML v1.0//EN
CALSCALE:GREGORIAN
METHOD:PUBLISH
X-ORIGINAL-URL:https://scturbinebleiloch.de
X-WR-CALDESC:Veranstaltungen für Segelclub Turbine Bleiloch e.V.
REFRESH-INTERVAL;VALUE=DURATION:PT1H
X-Robots-Tag:noindex
X-PUBLISHED-TTL:PT1H
BEGIN:VTIMEZONE
TZID:Europe/Berlin
BEGIN:DAYLIGHT
TZOFFSETFROM:+0100
TZOFFSETTO:+0200
TZNAME:CEST
DTSTART:20250330T010000
END:DAYLIGHT
BEGIN:STANDARD
TZOFFSETFROM:+0200
TZOFFSETTO:+0100
TZNAME:CET
DTSTART:20251026T010000
END:STANDARD
BEGIN:DAYLIGHT
TZOFFSETFROM:+0100
TZOFFSETTO:+0200
TZNAME:CEST
DTSTART:20260329T010000
END:DAYLIGHT
BEGIN:STANDARD
TZOFFSETFROM:+0200
TZOFFSETTO:+0100
TZNAME:CET
DTSTART:20261025T010000
END:STANDARD
BEGIN:DAYLIGHT
TZOFFSETFROM:+0100
TZOFFSETTO:+0200
TZNAME:CEST
DTSTART:20270328T010000
END:DAYLIGHT
BEGIN:STANDARD
TZOFFSETFROM:+0200
TZOFFSETTO:+0100
TZNAME:CET
DTSTART:20271031T010000
END:STANDARD
END:VTIMEZONE
BEGIN:VEVENT
DTSTART;TZID=Europe/Berlin:20260502T140000
DTEND;TZID=Europe/Berlin:20260502T170000
DTSTAMP:20260423T182736
CREATED:20241121T133130Z
LAST-MODIFIED:20260218T110514Z
UID:1920-1777730400-1777741200@scturbinebleiloch.de
SUMMARY:Frühjahrsregatta\, Ansegeln
DESCRIPTION:Offene Klasse und Optimisten \nHier findet ihr die Ausschreibung zur Frühjahrsregatta\, die in diesem Jahr schon am Sonnabend stattfindet. \nÜber den Direktlink zur Regatta in Manage2Sail könnt ihr euch ganz einfach anmelden!
URL:https://scturbinebleiloch.de/event/fruehjahrsregatta-ansegeln-2/
LOCATION:Segelclub Turbine Bleiloch (SCTB)\, Sperrmauer 1\, Saalburg-Ebersdorf\, 07929\, Deutschland
CATEGORIES:Bleilochtalsperre
ATTACH;FMTTYPE=image/jpeg:https://scturbinebleiloch.de/wp-content/uploads/2024/11/Ansegeln_SCTB.jpeg
END:VEVENT
BEGIN:VEVENT
DTSTART;TZID=Europe/Berlin:20260502T180000
DTEND;TZID=Europe/Berlin:20260502T220000
DTSTAMP:20260423T182736
CREATED:20241127T100026Z
LAST-MODIFIED:20260218T110556Z
UID:1970-1777744800-1777759200@scturbinebleiloch.de
SUMMARY:Maifeuer
DESCRIPTION:Rost brennt\, bringt aber bitte Euer Grillgut mit\, genießt den Abend und die Getränke der Bar. \nDas Ansegeln ist in diesem Jahr am gleichen Tag Sonnabend ab 14:00 Uhr.
URL:https://scturbinebleiloch.de/event/maifeuer-2/
CATEGORIES:Bleilochtalsperre
ATTACH;FMTTYPE=image/jpeg:https://scturbinebleiloch.de/wp-content/uploads/2023/07/2022_Maifeuer.jpg
END:VEVENT
BEGIN:VEVENT
DTSTART;VALUE=DATE:20260523
DTEND;VALUE=DATE:20260525
DTSTAMP:20260423T182736
CREATED:20241121T133314Z
LAST-MODIFIED:20251119T143502Z
UID:1924-1779494400-1779667199@scturbinebleiloch.de
SUMMARY:Pfingstpokal
DESCRIPTION:Klassen: alle Klassen \n 
URL:https://scturbinebleiloch.de/event/pfingstpokal-2/
LOCATION:Segelverein Saalburg e.V. (SVS)\, Vereinsgelände am Wetteraweg\, Saalburg-Ebersdorf\, Thüringen\, 07929\, Deutschland
CATEGORIES:Bleilochtalsperre
ATTACH;FMTTYPE=image/jpeg:https://scturbinebleiloch.de/wp-content/uploads/2024/11/PfingstpokalSVS.jpeg
END:VEVENT
BEGIN:VEVENT
DTSTART;VALUE=DATE:20260530
DTEND;VALUE=DATE:20260601
DTSTAMP:20260423T182736
CREATED:20241121T133442Z
LAST-MODIFIED:20260218T100747Z
UID:1926-1780099200-1780271999@scturbinebleiloch.de
SUMMARY:Pokal der Bleiloch\, Deutsche Meisterschaften Jollenmehrkampf\, Landesmeisterschaften Ixylon
DESCRIPTION:Klassen: Ixylon\, 420er\, Opti C\, alle Klassen\, eigene Wertung innerhalb der offenen Klasse ab 3 Booten \nRanglisten: Ixylon: 1\,3 420er: 1\,0 JMK 1\,4 \nÜber den Direktlink zur Regatta in Manage2Sail könnt ihr euch ganz einfach anmelden! \n  \n 
URL:https://scturbinebleiloch.de/event/pokal-der-bleiloch-2/
LOCATION:Segelclub Turbine Bleiloch (SCTB)\, Sperrmauer 1\, Saalburg-Ebersdorf\, 07929\, Deutschland
CATEGORIES:Bleilochtalsperre
ATTACH;FMTTYPE=image/jpeg:https://scturbinebleiloch.de/wp-content/uploads/2024/11/PokalDerBleiloch.jpeg
END:VEVENT
END:VCALENDAR