BEGIN:VCALENDAR
VERSION:2.0
PRODID:-//Segelclub Turbine Bleiloch e.V. - ECPv6.15.20//NONSGML v1.0//EN
CALSCALE:GREGORIAN
METHOD:PUBLISH
X-ORIGINAL-URL:https://scturbinebleiloch.de
X-WR-CALDESC:Veranstaltungen für Segelclub Turbine Bleiloch e.V.
REFRESH-INTERVAL;VALUE=DURATION:PT1H
X-Robots-Tag:noindex
X-PUBLISHED-TTL:PT1H
BEGIN:VTIMEZONE
TZID:Europe/Berlin
BEGIN:DAYLIGHT
TZOFFSETFROM:+0100
TZOFFSETTO:+0200
TZNAME:CEST
DTSTART:20250330T010000
END:DAYLIGHT
BEGIN:STANDARD
TZOFFSETFROM:+0200
TZOFFSETTO:+0100
TZNAME:CET
DTSTART:20251026T010000
END:STANDARD
BEGIN:DAYLIGHT
TZOFFSETFROM:+0100
TZOFFSETTO:+0200
TZNAME:CEST
DTSTART:20260329T010000
END:DAYLIGHT
BEGIN:STANDARD
TZOFFSETFROM:+0200
TZOFFSETTO:+0100
TZNAME:CET
DTSTART:20261025T010000
END:STANDARD
BEGIN:DAYLIGHT
TZOFFSETFROM:+0100
TZOFFSETTO:+0200
TZNAME:CEST
DTSTART:20270328T010000
END:DAYLIGHT
BEGIN:STANDARD
TZOFFSETFROM:+0200
TZOFFSETTO:+0100
TZNAME:CET
DTSTART:20271031T010000
END:STANDARD
END:VTIMEZONE
BEGIN:VEVENT
DTSTART;TZID=Europe/Berlin:20260228T100000
DTEND;TZID=Europe/Berlin:20260228T140000
DTSTAMP:20260423T195220
CREATED:20251127T102846Z
LAST-MODIFIED:20260225T075554Z
UID:1984-1772272800-1772287200@scturbinebleiloch.de
SUMMARY:Arbeitseinsatz\, Beräumung von Ästen
DESCRIPTION:Bei dem Arbeitseinsatz wollen wir ab 10:00 Uhr Sträucher und Äste in den aufgestellten Container beräumen. In den letzten Wochen haben wir bereits einige abgestorbene/morsche Äste und Bäume gesichert. Bringt bitte Arbeitshandschuhe mit\, auch Astscheren oder eine Kettensäge wären super. \n 
URL:https://scturbinebleiloch.de/event/arbeitseinsatz-beraeumung-von-aesten-2/
LOCATION:Segelclub Turbine Bleiloch (SCTB)\, Sperrmauer 1\, Saalburg-Ebersdorf\, 07929\, Deutschland
CATEGORIES:Arbeitseinsatz,Bleilochtalsperre
ATTACH;FMTTYPE=image/jpeg:https://scturbinebleiloch.de/wp-content/uploads/2025/11/IMG_7141-Mittel.jpeg
END:VEVENT
END:VCALENDAR