BEGIN:VCALENDAR
VERSION:2.0
PRODID:-//Segelclub Turbine Bleiloch e.V. - ECPv6.15.20//NONSGML v1.0//EN
CALSCALE:GREGORIAN
METHOD:PUBLISH
X-WR-CALNAME:Segelclub Turbine Bleiloch e.V.
X-ORIGINAL-URL:https://scturbinebleiloch.de
X-WR-CALDESC:Veranstaltungen für Segelclub Turbine Bleiloch e.V.
REFRESH-INTERVAL;VALUE=DURATION:PT1H
X-Robots-Tag:noindex
X-PUBLISHED-TTL:PT1H
BEGIN:VTIMEZONE
TZID:Europe/Berlin
BEGIN:DAYLIGHT
TZOFFSETFROM:+0100
TZOFFSETTO:+0200
TZNAME:CEST
DTSTART:20250330T010000
END:DAYLIGHT
BEGIN:STANDARD
TZOFFSETFROM:+0200
TZOFFSETTO:+0100
TZNAME:CET
DTSTART:20251026T010000
END:STANDARD
BEGIN:DAYLIGHT
TZOFFSETFROM:+0100
TZOFFSETTO:+0200
TZNAME:CEST
DTSTART:20260329T010000
END:DAYLIGHT
BEGIN:STANDARD
TZOFFSETFROM:+0200
TZOFFSETTO:+0100
TZNAME:CET
DTSTART:20261025T010000
END:STANDARD
BEGIN:DAYLIGHT
TZOFFSETFROM:+0100
TZOFFSETTO:+0200
TZNAME:CEST
DTSTART:20270328T010000
END:DAYLIGHT
BEGIN:STANDARD
TZOFFSETFROM:+0200
TZOFFSETTO:+0100
TZNAME:CET
DTSTART:20271031T010000
END:STANDARD
END:VTIMEZONE
BEGIN:VEVENT
DTSTART;TZID=Europe/Berlin:20260801T100000
DTEND;TZID=Europe/Berlin:20260802T170000
DTSTAMP:20260423T221535
CREATED:20241121T134102Z
LAST-MODIFIED:20260218T101422Z
UID:1936-1785578400-1785690000@scturbinebleiloch.de
SUMMARY:Offenes Training\, Matchrace J/70
DESCRIPTION:Über den Direktlink zur Regatta in Manage2Sail könnt ihr euch ganz einfach anmelden!
URL:https://scturbinebleiloch.de/event/offenes-training-matchrace/
LOCATION:Segelclub Turbine Bleiloch (SCTB)\, Sperrmauer 1\, Saalburg-Ebersdorf\, 07929\, Deutschland
CATEGORIES:Bleilochtalsperre
ATTACH;FMTTYPE=image/jpeg:https://scturbinebleiloch.de/wp-content/uploads/2023/11/1536-1024.jpg
END:VEVENT
END:VCALENDAR