BEGIN:VCALENDAR
VERSION:2.0
PRODID:-//Segelclub Turbine Bleiloch e.V. - ECPv6.15.20//NONSGML v1.0//EN
CALSCALE:GREGORIAN
METHOD:PUBLISH
X-ORIGINAL-URL:https://scturbinebleiloch.de
X-WR-CALDESC:Veranstaltungen für Segelclub Turbine Bleiloch e.V.
REFRESH-INTERVAL;VALUE=DURATION:PT1H
X-Robots-Tag:noindex
X-PUBLISHED-TTL:PT1H
BEGIN:VTIMEZONE
TZID:Europe/Berlin
BEGIN:DAYLIGHT
TZOFFSETFROM:+0100
TZOFFSETTO:+0200
TZNAME:CEST
DTSTART:20250330T010000
END:DAYLIGHT
BEGIN:STANDARD
TZOFFSETFROM:+0200
TZOFFSETTO:+0100
TZNAME:CET
DTSTART:20251026T010000
END:STANDARD
BEGIN:DAYLIGHT
TZOFFSETFROM:+0100
TZOFFSETTO:+0200
TZNAME:CEST
DTSTART:20260329T010000
END:DAYLIGHT
BEGIN:STANDARD
TZOFFSETFROM:+0200
TZOFFSETTO:+0100
TZNAME:CET
DTSTART:20261025T010000
END:STANDARD
BEGIN:DAYLIGHT
TZOFFSETFROM:+0100
TZOFFSETTO:+0200
TZNAME:CEST
DTSTART:20270328T010000
END:DAYLIGHT
BEGIN:STANDARD
TZOFFSETFROM:+0200
TZOFFSETTO:+0100
TZNAME:CET
DTSTART:20271031T010000
END:STANDARD
END:VTIMEZONE
BEGIN:VEVENT
DTSTART;VALUE=DATE:20260620
DTEND;VALUE=DATE:20260622
DTSTAMP:20260423T210626
CREATED:20241121T135214Z
LAST-MODIFIED:20260218T101128Z
UID:1952-1781913600-1782086399@scturbinebleiloch.de
SUMMARY:Blaues Band der Bleilochtalsperre\, LM 420er
DESCRIPTION:Opti A/B\, 420er\, Europe\, Ixylon\, Pirat\, Yardstick für Jollen\, Yardstick für Offene Kielboote\, eigene Wertung innerhalb der offenen Klasse ab 3 Booten\nRanglisten: Opti A: 1\,1 Opti B  420er: 1\,2 \nÜber den Direktlink zur Regatta in Manage2Sail könnt ihr euch ganz einfach anmelden! \n 
URL:https://scturbinebleiloch.de/event/blaues-band-bleiloch-und-mdjm/
LOCATION:Segelclub Turbine Bleiloch (SCTB)\, Sperrmauer 1\, Saalburg-Ebersdorf\, 07929\, Deutschland
CATEGORIES:Bleilochtalsperre
END:VEVENT
END:VCALENDAR