BEGIN:VCALENDAR
VERSION:2.0
PRODID:-//Segelclub Turbine Bleiloch e.V. - ECPv6.15.20//NONSGML v1.0//EN
CALSCALE:GREGORIAN
METHOD:PUBLISH
X-WR-CALNAME:Segelclub Turbine Bleiloch e.V.
X-ORIGINAL-URL:https://scturbinebleiloch.de
X-WR-CALDESC:Veranstaltungen für Segelclub Turbine Bleiloch e.V.
REFRESH-INTERVAL;VALUE=DURATION:PT1H
X-Robots-Tag:noindex
X-PUBLISHED-TTL:PT1H
BEGIN:VTIMEZONE
TZID:Europe/Berlin
BEGIN:DAYLIGHT
TZOFFSETFROM:+0100
TZOFFSETTO:+0200
TZNAME:CEST
DTSTART:20250330T010000
END:DAYLIGHT
BEGIN:STANDARD
TZOFFSETFROM:+0200
TZOFFSETTO:+0100
TZNAME:CET
DTSTART:20251026T010000
END:STANDARD
BEGIN:DAYLIGHT
TZOFFSETFROM:+0100
TZOFFSETTO:+0200
TZNAME:CEST
DTSTART:20260329T010000
END:DAYLIGHT
BEGIN:STANDARD
TZOFFSETFROM:+0200
TZOFFSETTO:+0100
TZNAME:CET
DTSTART:20261025T010000
END:STANDARD
BEGIN:DAYLIGHT
TZOFFSETFROM:+0100
TZOFFSETTO:+0200
TZNAME:CEST
DTSTART:20270328T010000
END:DAYLIGHT
BEGIN:STANDARD
TZOFFSETFROM:+0200
TZOFFSETTO:+0100
TZNAME:CET
DTSTART:20271031T010000
END:STANDARD
END:VTIMEZONE
BEGIN:VEVENT
DTSTART;VALUE=DATE:20260613
DTEND;VALUE=DATE:20260615
DTSTAMP:20260423T210146
CREATED:20251121T133621Z
LAST-MODIFIED:20260120T114705Z
UID:1928-1781308800-1781481599@scturbinebleiloch.de
SUMMARY:Karpfenpfeiffer
DESCRIPTION:Klassen: Europe\, Laser\, Finn\, Opti \nRanglisten: Opti B/C\, ILCA6\, Europe Landesmeisterschaften
URL:https://scturbinebleiloch.de/event/karpfenpfeiffer-2/
LOCATION:segelclub zeulenroda\, Quingenberg\, Zeulenroda\, Thüringen\, 07937\, Germany
CATEGORIES:externe Veranstaltung
ATTACH;FMTTYPE=image/jpeg:https://scturbinebleiloch.de/wp-content/uploads/2024/11/KarpfenP_Zeulenroda.jpg
END:VEVENT
END:VCALENDAR