BEGIN:VCALENDAR
VERSION:2.0
PRODID:-//Segelclub Turbine Bleiloch e.V. - ECPv6.15.20//NONSGML v1.0//EN
CALSCALE:GREGORIAN
METHOD:PUBLISH
X-ORIGINAL-URL:https://scturbinebleiloch.de
X-WR-CALDESC:Veranstaltungen für Segelclub Turbine Bleiloch e.V.
REFRESH-INTERVAL;VALUE=DURATION:PT1H
X-Robots-Tag:noindex
X-PUBLISHED-TTL:PT1H
BEGIN:VTIMEZONE
TZID:Europe/Berlin
BEGIN:DAYLIGHT
TZOFFSETFROM:+0100
TZOFFSETTO:+0200
TZNAME:CEST
DTSTART:20250330T010000
END:DAYLIGHT
BEGIN:STANDARD
TZOFFSETFROM:+0200
TZOFFSETTO:+0100
TZNAME:CET
DTSTART:20251026T010000
END:STANDARD
BEGIN:DAYLIGHT
TZOFFSETFROM:+0100
TZOFFSETTO:+0200
TZNAME:CEST
DTSTART:20260329T010000
END:DAYLIGHT
BEGIN:STANDARD
TZOFFSETFROM:+0200
TZOFFSETTO:+0100
TZNAME:CET
DTSTART:20261025T010000
END:STANDARD
BEGIN:DAYLIGHT
TZOFFSETFROM:+0100
TZOFFSETTO:+0200
TZNAME:CEST
DTSTART:20270328T010000
END:DAYLIGHT
BEGIN:STANDARD
TZOFFSETFROM:+0200
TZOFFSETTO:+0100
TZNAME:CET
DTSTART:20271031T010000
END:STANDARD
END:VTIMEZONE
BEGIN:VEVENT
DTSTART;VALUE=DATE:20260523
DTEND;VALUE=DATE:20260525
DTSTAMP:20260423T194952
CREATED:20241121T133314Z
LAST-MODIFIED:20251119T143502Z
UID:1924-1779494400-1779667199@scturbinebleiloch.de
SUMMARY:Pfingstpokal
DESCRIPTION:Klassen: alle Klassen \n 
URL:https://scturbinebleiloch.de/event/pfingstpokal-2/
LOCATION:Segelverein Saalburg e.V. (SVS)\, Vereinsgelände am Wetteraweg\, Saalburg-Ebersdorf\, Thüringen\, 07929\, Deutschland
CATEGORIES:Bleilochtalsperre
ATTACH;FMTTYPE=image/jpeg:https://scturbinebleiloch.de/wp-content/uploads/2024/11/PfingstpokalSVS.jpeg
END:VEVENT
END:VCALENDAR